BEGIN:VCALENDAR
VERSION:2.0
PRODID:-//Munich Startup - ECPv5.5.0//NONSGML v1.0//EN
CALSCALE:GREGORIAN
METHOD:PUBLISH
X-WR-CALNAME:Munich Startup
X-ORIGINAL-URL:https://cms.munich-startup.net/en
X-WR-CALDESC:Events for Munich Startup
BEGIN:VTIMEZONE
TZID:Europe/Berlin
BEGIN:DAYLIGHT
TZOFFSETFROM:+0100
TZOFFSETTO:+0200
TZNAME:CEST
DTSTART:20240331T010000
END:DAYLIGHT
BEGIN:STANDARD
TZOFFSETFROM:+0200
TZOFFSETTO:+0100
TZNAME:CET
DTSTART:20241027T010000
END:STANDARD
END:VTIMEZONE
BEGIN:VEVENT
DTSTART;TZID=Europe/Berlin:20241122T150000
DTEND;TZID=Europe/Berlin:20241124T163000
DTSTAMP:20260425T221546
CREATED:20240926T134704Z
LAST-MODIFIED:20240926T134704Z
UID:104909-1732287600-1732465800@cms.munich-startup.net
SUMMARY:hackaTUM 2024
DESCRIPTION:hackaTUM is the official hackathon of the Department of Computer Science at the Technical University of Munich\, which has taken place annually since 2016 and has grown to be one of the largest of its kind in the EU. \nThe hackathon comprises a massive three-day event\, where highly motivated participants of various levels and backgrounds work on exciting\, cutting-edge projects with a host of leading industry partners. In addition to coding challenges\, there are also excellent opportunities for academic-industry exchange\, supported by workshops and networking events. \nHier findet Ihr mehr Informationen zu der Veranstaltung.
URL:https://cms.munich-startup.net/en/event/hackatum-2024/
LOCATION:Fakultät für Mathematik & Informatik der Technischen Universität München\, Boltzmannstr. 3\, Garching\, 85748
ATTACH;FMTTYPE=image/png:https://cms.munich-startup.net/wp-content/uploads/2024/09/2024-Promotion-Banner.png
GEO:48.2620138;11.6680976
X-APPLE-STRUCTURED-LOCATION;VALUE=URI;X-ADDRESS=Fakultät für Mathematik & Informatik der Technischen Universität München Boltzmannstr. 3 Garching 85748;X-APPLE-RADIUS=500;X-TITLE=Boltzmannstr. 3:geo:11.6680976,48.2620138
END:VEVENT
END:VCALENDAR