BEGIN:VCALENDAR
VERSION:2.0
PRODID:-//Munich Startup - ECPv5.5.0//NONSGML v1.0//EN
CALSCALE:GREGORIAN
METHOD:PUBLISH
X-WR-CALNAME:Munich Startup
X-ORIGINAL-URL:https://cms.munich-startup.net/en
X-WR-CALDESC:Events for Munich Startup
BEGIN:VTIMEZONE
TZID:Europe/Berlin
BEGIN:DAYLIGHT
TZOFFSETFROM:+0100
TZOFFSETTO:+0200
TZNAME:CEST
DTSTART:20250330T010000
END:DAYLIGHT
BEGIN:STANDARD
TZOFFSETFROM:+0200
TZOFFSETTO:+0100
TZNAME:CET
DTSTART:20251026T010000
END:STANDARD
END:VTIMEZONE
BEGIN:VEVENT
DTSTART;TZID=Europe/Berlin:20250416T133000
DTEND;TZID=Europe/Berlin:20250416T203000
DTSTAMP:20260425T152012
CREATED:20250326T140855Z
LAST-MODIFIED:20250404T120726Z
UID:108763-1744810200-1744835400@cms.munich-startup.net
SUMMARY:German Accelerator in Munich: Healthcare Session
DESCRIPTION:Tired of Slow Adoption and Regulatory Delays? Africa’s Health Tech Sector is Your Chance! Learn directly from pioneers in African markets\, connect with healthcare founders\, and qualify for 4 hours of personalized mentoring after the program. \nJoin us on April 16 in Munich for an insightful program exploring the evolving Health Tech landscape in Africa\, where industry experts\, investors\, and entrepreneurs will discuss the region’s immense potential. Gain first-hand founder insights\, market knowledge\, and investor perspectives on opportunities\, challenges\, and risks. Complete this insightful day with an exclusive networking session\, connecting with fellow founders\, investors\, and industry leaders shaping the future of health tech in Africa. \nHier findet Ihr mehr Informationen zu der Veranstaltung.
URL:https://cms.munich-startup.net/en/event/german-accelerator-in-munich-healthcare-session/
LOCATION:Start2 Group\, Balanstraße 73\, München\, 81541\, Deutschland
ATTACH;FMTTYPE=image/jpeg:https://cms.munich-startup.net/wp-content/uploads/2025/03/MunichStartups_Program_The-Future-of-Health-Tech-in-Africa.jpg
END:VEVENT
END:VCALENDAR