BEGIN:VCALENDAR
VERSION:2.0
PRODID:-//Munich Startup - ECPv5.5.0//NONSGML v1.0//EN
CALSCALE:GREGORIAN
METHOD:PUBLISH
X-WR-CALNAME:Munich Startup
X-ORIGINAL-URL:https://cms.munich-startup.net/en
X-WR-CALDESC:Events for Munich Startup
BEGIN:VTIMEZONE
TZID:Europe/Berlin
BEGIN:DAYLIGHT
TZOFFSETFROM:+0100
TZOFFSETTO:+0200
TZNAME:CEST
DTSTART:20260329T010000
END:DAYLIGHT
BEGIN:STANDARD
TZOFFSETFROM:+0200
TZOFFSETTO:+0100
TZNAME:CET
DTSTART:20261025T010000
END:STANDARD
END:VTIMEZONE
BEGIN:VEVENT
DTSTART;TZID=Europe/Berlin:20260317T100000
DTEND;TZID=Europe/Berlin:20260317T113000
DTSTAMP:20260424T172441
CREATED:20260129T154639Z
LAST-MODIFIED:20260129T154639Z
UID:116583-1773741600-1773747000@cms.munich-startup.net
SUMMARY:gate-Academy: Raise Capital Without Dilution - A Founder’s Playbook
DESCRIPTION:live gate-Academy „Raise Capital Without Dilution – A Founder’s Playbook“ with Dr. Alexander von Buttlar-Wallot \nNon-dilutive funding can be a powerful growth lever for your startup: Grants\, debt\, and blended finance options allow founders to access significant capital without giving up equity. In this workshop\, Dr. Alexander von Buttlar-Wallot will provide a structured overview of non-dilutive funding instruments and how to leverage them. \nYou’ll learn how to: \n\nIdentify the right non-dilutive funding options for your venture\nUnderstand the requirements and success factors of the most important R&D grants\, such as Forschungszulage or ZIM\nNavigate the application\, due diligence\, and documentation process efficiently\nMaximize funding volume and approval probability with minimal time investment\n\nDr. Alexander von Buttlar-Wallot is the founder and MD of FUNDED. FUNDED is a tech-enabled advisory boutique specialized in helping ventures raise capital via grants or debt with our consulting services and our proprietary software solution FundedOS. FUNDED has already successfully raised >€300m for >100 companies\, including Celonis\, TWAICE and Wandelbots. \nHier findet Ihr mehr Informationen zu der Veranstaltung.
URL:https://cms.munich-startup.net/en/event/gate-academy-raise-capital-without-dilution-a-founders-playbook/
LOCATION:gate – Garchinger Technologie- und Gründerzentrum GmbH\, Lichtenbergstraße 8\, Garching bei München\, 85748
ATTACH;FMTTYPE=image/jpeg:https://cms.munich-startup.net/wp-content/uploads/2026/01/Visual-17.03.-gate-Academy.jpg
GEO:48.2686397;11.6651295
X-APPLE-STRUCTURED-LOCATION;VALUE=URI;X-ADDRESS=gate – Garchinger Technologie- und Gründerzentrum GmbH Lichtenbergstraße 8 Garching bei München 85748;X-APPLE-RADIUS=500;X-TITLE=Lichtenbergstraße 8:geo:11.6651295,48.2686397
END:VEVENT
END:VCALENDAR