BEGIN:VCALENDAR
VERSION:2.0
PRODID:-//Munich Startup - ECPv5.5.0//NONSGML v1.0//EN
CALSCALE:GREGORIAN
METHOD:PUBLISH
X-WR-CALNAME:Munich Startup
X-ORIGINAL-URL:https://cms.munich-startup.net/en
X-WR-CALDESC:Events for Munich Startup
BEGIN:VTIMEZONE
TZID:Europe/Berlin
BEGIN:DAYLIGHT
TZOFFSETFROM:+0100
TZOFFSETTO:+0200
TZNAME:CEST
DTSTART:20260329T010000
END:DAYLIGHT
BEGIN:STANDARD
TZOFFSETFROM:+0200
TZOFFSETTO:+0100
TZNAME:CET
DTSTART:20261025T010000
END:STANDARD
END:VTIMEZONE
BEGIN:VEVENT
DTSTART;TZID=Europe/Berlin:20260226T100000
DTEND;TZID=Europe/Berlin:20260226T120000
DTSTAMP:20260424T184515
CREATED:20251204T075720Z
LAST-MODIFIED:20251204T075720Z
UID:115300-1772100000-1772107200@cms.munich-startup.net
SUMMARY:gate-Academy: Durchblick Förderung: Welche Förderung bringt dein Startup voran?
DESCRIPTION:live gate-Academy mit Bayern Innovativ \nDu suchst nach einer Förderung\, weißt aber nicht\, welche für dein Startup in Frage kommt? Zudem fehlt dir die Zeit und der Überblick bei der Recherche? \nIn unserer nächsten live gate-Academy gibt dir Gunnar Hagemann von Bayern Innovativ einen Überblick über Förderprogramme rund um die Gründung. \nAls Teil der Bayern Innovativ GmbH ist der Förder- und Gründerlotse dein Zugang zur Beratung zu Förderprogrammen. Du lernst alles rund um den Förder- und Gründerlotsen kennen und welche Art von Förderung für dein Startup geeignet ist. Förderexperte Gunnar Hagemann führt dich durch den bayerischen Förderdschungel. Denn er weiß: Förderung & Finanzierung ist eines der nachgefragtesten Themen bei GründerInnen. \nNach dem Workshop bleibt genug Zeit zum Netzwerken. Nutze die Gelegenheit und tausche dich mit anderen Tech-GründerInnen aus. Wir freuen uns auf dich! \nHier findet Ihr mehr Informationen zu der Veranstaltung.
URL:https://cms.munich-startup.net/en/event/gate-academy-overview-of-funding-which-funding-will-advance-your-startup/
LOCATION:gate – Garchinger Technologie- und Gründerzentrum GmbH\, Lichtenbergstraße 8\, Garching bei München\, 85748
ATTACH;FMTTYPE=image/jpeg:https://cms.munich-startup.net/wp-content/uploads/2025/12/Visual-gate-Academy-26.02._-Eventbrite.jpg
GEO:48.2686397;11.6651295
X-APPLE-STRUCTURED-LOCATION;VALUE=URI;X-ADDRESS=gate – Garchinger Technologie- und Gründerzentrum GmbH Lichtenbergstraße 8 Garching bei München 85748;X-APPLE-RADIUS=500;X-TITLE=Lichtenbergstraße 8:geo:11.6651295,48.2686397
END:VEVENT
END:VCALENDAR