BEGIN:VCALENDAR
VERSION:2.0
PRODID:-//Munich Startup - ECPv5.5.0//NONSGML v1.0//EN
CALSCALE:GREGORIAN
METHOD:PUBLISH
X-WR-CALNAME:Munich Startup
X-ORIGINAL-URL:https://cms.munich-startup.net/en
X-WR-CALDESC:Events for Munich Startup
BEGIN:VTIMEZONE
TZID:Europe/Berlin
BEGIN:DAYLIGHT
TZOFFSETFROM:+0100
TZOFFSETTO:+0200
TZNAME:CEST
DTSTART:20250330T010000
END:DAYLIGHT
BEGIN:STANDARD
TZOFFSETFROM:+0200
TZOFFSETTO:+0100
TZNAME:CET
DTSTART:20251026T010000
END:STANDARD
END:VTIMEZONE
BEGIN:VEVENT
DTSTART;TZID=Europe/Berlin:20250402T130000
DTEND;TZID=Europe/Berlin:20250402T190000
DTSTAMP:20260425T152136
CREATED:20250225T130307Z
LAST-MODIFIED:20250225T130307Z
UID:108160-1743598800-1743620400@cms.munich-startup.net
SUMMARY:Future of Health: Trends Shaping Tomorrow’s Healthcare
DESCRIPTION:The healthcare landscape is evolving faster than ever\, driven by advancements in technology\, new models of care\, and an increasing focus on longevity and well-being. Future of Health will be a dynamic exploration of the top trends that are redefining the industry. \nJoin us as we bring together leading healthcare companies\, innovators\, and industry experts to dive into the three key topics: \n\n  AI in Genomic Medicine – How artificial intelligence is accelerating precision medicine\, transforming diagnostics\, and unlocking the full potential of genomics\n Longevity & Healthy Ageing – The rise of longevity-focused healthcare solutions\, from preventive care to breakthrough treatments designed to extend healthspan\n New Care Delivery Models – The shift toward more personalized\, technology-driven\, and patient-centric healthcare experiences\n\nDon’t miss the opportunity to explore the trends that will drive innovation\, investment\, and impact in 2025. \nHier findet Ihr mehr Informationen zu der Veranstaltung. 
URL:https://cms.munich-startup.net/en/event/future-of-health-trends-shaping-tomorrows-healthcare/
ATTACH;FMTTYPE=image/avif:https://cms.munich-startup.net/wp-content/uploads/2025/02/Future-of-Health-Trends-Shaping-Tomorrows-Healthcare.avif
END:VEVENT
END:VCALENDAR