BEGIN:VCALENDAR
VERSION:2.0
PRODID:-//Munich Startup - ECPv5.5.0//NONSGML v1.0//EN
CALSCALE:GREGORIAN
METHOD:PUBLISH
X-WR-CALNAME:Munich Startup
X-ORIGINAL-URL:https://cms.munich-startup.net/en
X-WR-CALDESC:Events for Munich Startup
BEGIN:VTIMEZONE
TZID:Europe/Berlin
BEGIN:DAYLIGHT
TZOFFSETFROM:+0100
TZOFFSETTO:+0200
TZNAME:CEST
DTSTART:20260329T010000
END:DAYLIGHT
BEGIN:STANDARD
TZOFFSETFROM:+0200
TZOFFSETTO:+0100
TZNAME:CET
DTSTART:20261025T010000
END:STANDARD
END:VTIMEZONE
BEGIN:VEVENT
DTSTART;TZID=Europe/Berlin:20260421T093000
DTEND;TZID=Europe/Berlin:20260421T180000
DTSTAMP:20260424T142553
CREATED:20251106T094134Z
LAST-MODIFIED:20251106T094134Z
UID:114394-1776763800-1776794400@cms.munich-startup.net
SUMMARY:Food Startup Campus 2026
DESCRIPTION:#futurefoodplayer: Ein Tag mit wertvollen Tipps und Erfahrungsberichten für Food-Startups und Gründungs- und Brancheninteressierte. \nOb Dein Startup noch in Planung ist\, Du schon gegründet hast oder sogar schon den nächsten Wachstumsschritt in Angriff nimmst: Der Food Startup Campus ist das Event\, bei dem Du dabei sein solltest! \nLernen\, Netzwerken\, Testen\, Pitchen – Der Food Startup Campus bietet Praxiswissen und spannende Insights. \nDarauf darfst Du Dich schon freuen: \n\nSpannende Speaker: Lass Dich inspirieren und lerne\, wie andere ihr Startup vorangebracht haben\nInspirierende Panel Talks: Diskutiere mit uns über Food Innovation\nInteressante Masterclasses: Lerne von den ExpertInnen\n\n\nFood Startup Pitch: FoodNextGens stellen sich den Fragen der Jury und des Publikums – und haben die Chance auf attraktive Geld- und Sachpreise\n\n\nLive Tasting: Die Produkte der FoodNextGen-Teilnehmenden und aller anderen AusstellerInnen können an den Ausstellungs-Tischen probiert werden – die Konferenz-TeilnehmerInnen entscheiden auch darüber\, welches Startup den Publikumspreis verdient hat.\n\n\nNetworking: Während der gesamten Präsenzveranstaltung besteht den ganzen Tag viel Gelegenheit zum Networking mit anderen Startups und unseren Unternehmenspartnern. An unseren Roundtables kommst Du mit anderen ins Gespräch.\n\nDer Food Startup Campus ist eine Veranstaltung von StartinFOOD in Zusammenarbeit mit den weiteren Mitgliedern des Munich Food Hub: der Landeshauptstadt München\, dem Dynamic Innovation Campus Drink & Food Tech (DICA)\, dem Food Startup Inkubator Weihenstephan (FSIWS)\, dem AgriFood Hub by UnternehmerTUM und TUM Venture Labs\, der Stadtsparkasse München und der Start-up Lounge von REWE Süd. \nHier findet Ihr mehr Informationen zu der Veranstaltung.
URL:https://cms.munich-startup.net/en/event/food-startup-campus-2026/
LOCATION:München\, München\, 80333
ATTACH;FMTTYPE=image/jpeg:https://cms.munich-startup.net/wp-content/uploads/2025/11/Food-Startup-Campus-2026.jpg
GEO:48.1440989;11.5695525
END:VEVENT
END:VCALENDAR