BEGIN:VCALENDAR
VERSION:2.0
PRODID:-//Munich Startup - ECPv5.5.0//NONSGML v1.0//EN
CALSCALE:GREGORIAN
METHOD:PUBLISH
X-WR-CALNAME:Munich Startup
X-ORIGINAL-URL:https://cms.munich-startup.net/en
X-WR-CALDESC:Events for Munich Startup
BEGIN:VTIMEZONE
TZID:Europe/Berlin
BEGIN:DAYLIGHT
TZOFFSETFROM:+0100
TZOFFSETTO:+0200
TZNAME:CEST
DTSTART:20250330T010000
END:DAYLIGHT
BEGIN:STANDARD
TZOFFSETFROM:+0200
TZOFFSETTO:+0100
TZNAME:CET
DTSTART:20251026T010000
END:STANDARD
END:VTIMEZONE
BEGIN:VEVENT
DTSTART;TZID=Europe/Berlin:20250522T080000
DTEND;TZID=Europe/Berlin:20250522T190000
DTSTAMP:20260425T135138
CREATED:20250326T084927Z
LAST-MODIFIED:20250326T085047Z
UID:108748-1747900800-1747940400@cms.munich-startup.net
SUMMARY:Female Future Festival Munich
DESCRIPTION:Was dich beim Female Future Festival erwartet?\n„Ein Tag der Inspiration. Ein Festival der Möglichkeiten. Ein Event für Entschlossene und Unentschlossene\, für Mutige und Macherinnen\, für Entdeckerinnen und Gründerinnen\, für neue Perspektiven und unentdeckte Potenziale. Also genau das Richtige für dich\, dich und dich.“ \nProgramm und Speaker*Innen\nÜber 30 authentische\, spannende & emotionale Speaker:innen warten auf dich. Expert:innen\, die dir Mut machen\, motivieren und zum Nachdenken und Nachahmen animieren! Menschen\, die mit Ihren Geschichten berühren\, die etwas bewegen und „echt“ sind – mit all ihren Höhen und Tiefen.\nDas gesamte Female Future Festival Programm findest du zeitnah vor dem Festival online & du darfst dich sowas von freuen & gespannt sein.\nHol dir jetzt gleich dein Ticket und feiere diesen Tag mit uns. Lass dich inspirieren und hol dir für dich und deine berufliche Zukunft neuen Spirit. \nTicketermäßigungen (30 %) für: \n\nElternticket\nGründer:innen\nStudent:innen\n\nSchick uns gerne per Mail (hello@femalefuturefestival.com) einen Nachweis\, dass du berechtigt bist\, die Ermäßigung in Anspruch zu nehmen\, dann erhältst du einen Rabattcode von uns! \nHier findet Ihr mehr Informationen zu der Veranstaltung.
URL:https://cms.munich-startup.net/en/event/female-future-festival-munich-2025/
LOCATION:Werksviertel Mitte München\, Atelierstraße 1\, München\, 81671\, Germany
ATTACH;FMTTYPE=image/jpeg:https://cms.munich-startup.net/wp-content/uploads/2025/03/DSC1260.jpg
END:VEVENT
END:VCALENDAR