BEGIN:VCALENDAR
VERSION:2.0
PRODID:-//Munich Startup - ECPv5.5.0//NONSGML v1.0//EN
CALSCALE:GREGORIAN
METHOD:PUBLISH
X-WR-CALNAME:Munich Startup
X-ORIGINAL-URL:https://cms.munich-startup.net/en
X-WR-CALDESC:Events for Munich Startup
BEGIN:VTIMEZONE
TZID:Europe/Berlin
BEGIN:DAYLIGHT
TZOFFSETFROM:+0100
TZOFFSETTO:+0200
TZNAME:CEST
DTSTART:20250330T010000
END:DAYLIGHT
BEGIN:STANDARD
TZOFFSETFROM:+0200
TZOFFSETTO:+0100
TZNAME:CET
DTSTART:20251026T010000
END:STANDARD
END:VTIMEZONE
BEGIN:VEVENT
DTSTART;TZID=Europe/Berlin:20251202T173000
DTEND;TZID=Europe/Berlin:20251202T210000
DTSTAMP:20260425T025501
CREATED:20251120T143655Z
LAST-MODIFIED:20251120T143655Z
UID:114916-1764696600-1764709200@cms.munich-startup.net
SUMMARY:(Female) Founders Talk: Turning Circular Revolution into Business Impact
DESCRIPTION:KPMG & Women Start-up by UnternehmerTUM invite you to our next (Female) Founders Talk\nWe are doing it again! Would you like to join? \nWomen Start-up and KPMG are back with an inspiring evening on Circular Economy\, Innovation & Female Leadership \nThe future of business is circular – and women are driving the change. At this Female Founders Talk\, we’ll explore how circular economy principles are reshaping industries and creating new opportunities for innovation and impact. \nOur keynote speaker Nadin-Shirin Zimmermann will open the evening with insights on how new business models can accelerate the transition toward a more sustainable and regenerative economy. \nFollowing her talk\, inspiring female founders will share their journeys of building circular ventures — from first ideas to real-world impact. \nHier findet Ihr mehr Informationen zu der Veranstaltung.
URL:https://cms.munich-startup.net/en/event/female-founders-talk-turning-circular-revolution-into-business-impact/
LOCATION:KPMG AG München\, Ganghoferstraße 29\, München\, 80339
ATTACH;FMTTYPE=image/jpeg:https://cms.munich-startup.net/wp-content/uploads/2025/11/Female-Founders-Talk-x-KPMG-02.12.25-2160-x-1080-px.jpg
GEO:48.1328884;11.5405305
X-APPLE-STRUCTURED-LOCATION;VALUE=URI;X-ADDRESS=KPMG AG München Ganghoferstraße 29 München 80339;X-APPLE-RADIUS=500;X-TITLE=Ganghoferstraße 29:geo:11.5405305,48.1328884
END:VEVENT
END:VCALENDAR