BEGIN:VCALENDAR
VERSION:2.0
PRODID:-//Munich Startup - ECPv5.5.0//NONSGML v1.0//EN
CALSCALE:GREGORIAN
METHOD:PUBLISH
X-WR-CALNAME:Munich Startup
X-ORIGINAL-URL:https://cms.munich-startup.net/en
X-WR-CALDESC:Events for Munich Startup
BEGIN:VTIMEZONE
TZID:Europe/Berlin
BEGIN:DAYLIGHT
TZOFFSETFROM:+0100
TZOFFSETTO:+0200
TZNAME:CEST
DTSTART:20260329T010000
END:DAYLIGHT
BEGIN:STANDARD
TZOFFSETFROM:+0200
TZOFFSETTO:+0100
TZNAME:CET
DTSTART:20261025T010000
END:STANDARD
END:VTIMEZONE
BEGIN:VEVENT
DTSTART;TZID=Europe/Berlin:20260109T083000
DTEND;TZID=Europe/Berlin:20260109T100000
DTSTAMP:20260425T013405
CREATED:20251201T150300Z
LAST-MODIFIED:20251201T150300Z
UID:115179-1767947400-1767952800@cms.munich-startup.net
SUMMARY:Female Founders Breakfast
DESCRIPTION:Start the new year among female founders — in a facilitated networking format tailored to your next step. \nKick off 2026 with clarity\, connection\, and a curated group of women who build\, lead\, and grow in Munich’s startup ecosystem. \nThe YourNext Female Founders Breakfast is not a keynote event and not an information session. Instead\, it offers a guided\, founder-friendly networking program created specifically for busy female entrepreneurs who want meaningful exchange without added noise. \nOur facilitated format helps you connect quickly and intentionally — with women who are navigating their own “what’s next” in the new year. \nWhat to Expect\n\na relaxed breakfast atmosphere\nstructured\, facilitated networking tailored to female founders\na short\, practical micro-impulse on goal-setting for the new year\nhonest conversations about your plans\, challenges\, and next steps for 2026\n\nThis format is intentionally focused\, and time-efficient — designed for women who don’t need another talk\, but the right people to move forward. \nYourNext is a community developed by Mentessa to support female professionals in building their next step — whether in entrepreneurship\, leadership\, or career growth. The YourNext 2026 Female Founder Breakfast is organized in partnership with TUM Female Founders. \nStart the year with the women who are building what’s next — including you. \nHier findet Ihr mehr Informationen zu der Veranstaltung.
URL:https://cms.munich-startup.net/en/event/female-founders-breakfast-0126/
LOCATION:Lilli P.\, Lilli-Palmer-Straße 2\, München\, 80636\, Germany
ATTACH;FMTTYPE=image/jpeg:https://cms.munich-startup.net/wp-content/uploads/2025/12/YourNext2026-Female-Founders-Breakfast-1.jpg
END:VEVENT
END:VCALENDAR