BEGIN:VCALENDAR
VERSION:2.0
PRODID:-//Munich Startup - ECPv5.5.0//NONSGML v1.0//EN
CALSCALE:GREGORIAN
METHOD:PUBLISH
X-WR-CALNAME:Munich Startup
X-ORIGINAL-URL:https://cms.munich-startup.net/en
X-WR-CALDESC:Events for Munich Startup
BEGIN:VTIMEZONE
TZID:Europe/Berlin
BEGIN:DAYLIGHT
TZOFFSETFROM:+0100
TZOFFSETTO:+0200
TZNAME:CEST
DTSTART:20260329T010000
END:DAYLIGHT
BEGIN:STANDARD
TZOFFSETFROM:+0200
TZOFFSETTO:+0100
TZNAME:CET
DTSTART:20261025T010000
END:STANDARD
END:VTIMEZONE
BEGIN:VEVENT
DTSTART;TZID=Europe/Berlin:20260418T120000
DTEND;TZID=Europe/Berlin:20260418T183000
DTSTAMP:20260424T142525
CREATED:20260316T081948Z
LAST-MODIFIED:20260316T081948Z
UID:118078-1776513600-1776537000@cms.munich-startup.net
SUMMARY:Female Entrepreneurship Summit
DESCRIPTION:Am 18. April findet der Female Entrepreneurship Summit in München statt: ein Event von Frauen für Frauen\, das inspiriert\, vernetzt und motiviert. \nMit dabei sind unter anderem Diana zur Löwen\, Claire Siegert sowie viele weitere inspirierende Speakerinnen aus Startup\, Tech und Venture Capital. \nDer Summit richtet sich an Frauen\, die sich für Unternehmertum und Innovation interessieren\, ganz gleich\, ob du gerade erst darüber nachdenkst zu gründen\, bereits an einer Idee arbeitest oder dich einfach mit anderen ambitionierten Frauen austauschen und vernetzen möchtest. \nIn Workshops\, Panels\, Keynotes und Networking-Formaten hast du die Möglichkeit\, Gründerinnen kennenzulernen\, neue Perspektiven zu gewinnen und Teil einer starken Founder- und Innovatorinnen-Community zu werden. \nHier findet Ihr mehr Informationen zu der Veranstaltung. 
URL:https://cms.munich-startup.net/en/event/female-entrepreneurship-summit/
LOCATION:smartvillage Bogenhausen\, Rosenkavalierplatz 13\, München\, 81925
ATTACH;FMTTYPE=image/jpeg:https://cms.munich-startup.net/wp-content/uploads/2026/03/Banner_Mail.jpg
END:VEVENT
END:VCALENDAR