BEGIN:VCALENDAR
VERSION:2.0
PRODID:-//Munich Startup - ECPv5.5.0//NONSGML v1.0//EN
CALSCALE:GREGORIAN
METHOD:PUBLISH
X-WR-CALNAME:Munich Startup
X-ORIGINAL-URL:https://cms.munich-startup.net/en
X-WR-CALDESC:Events for Munich Startup
BEGIN:VTIMEZONE
TZID:Europe/Berlin
BEGIN:DAYLIGHT
TZOFFSETFROM:+0100
TZOFFSETTO:+0200
TZNAME:CEST
DTSTART:20240331T010000
END:DAYLIGHT
BEGIN:STANDARD
TZOFFSETFROM:+0200
TZOFFSETTO:+0100
TZNAME:CET
DTSTART:20241027T010000
END:STANDARD
END:VTIMEZONE
BEGIN:VEVENT
DTSTART;TZID=Europe/Berlin:20240711T163000
DTEND;TZID=Europe/Berlin:20240711T190000
DTSTAMP:20260426T041726
CREATED:20240701T073124Z
LAST-MODIFIED:20240701T073124Z
UID:102619-1720715400-1720724400@cms.munich-startup.net
SUMMARY:FAB TALKS - Beverage Technology
DESCRIPTION:FAB TALKS – Beverage Technology\nInteresse an den neuesten Trends und Fortschritten in der Getränketechnologie?\nAm 11. Juli findet die erste Veranstaltung der Reihe „Fab Talks“ in unserem Co-Working Space statt! Die Veranstaltung bietet eine Diskussion über Beverage Technology mit einer spannenden Agenda\, die interessante Vorträge und Diskussionen zu aktuellen Trends und Entwicklungen der Getränketechnologie umfasst. \nProgramm:\n16:30 – 17:00: Innovation Talk mit Dr. Marc Rauschmann (Leiter Qualität) der Radeberger Gruppe\n17:00 – 17:30: Live-Interview mit Prof. Dr.-Ing. Thomas Becker (Ordinarius des Lehrstuhls für Brau- und Getränketechnologie) über Getränkeinnovationen\n17:30 – 18:00: Vorstellung von Startups aus der Beverage Technology\, darunter Flowsight\n18:00: Networking und Austausch (mit EIT Food) \nDieses Event richtet sich an Studierende\, Forschende\, Startups\, Innovatoren und die Industrie\, insbesondere Brauereien. Verpasst nicht die Gelegenheit\, sich mit führenden Köpfen der Branche zu vernetzen und die neuesten Entwicklungen zu entdecken. \nHier findet Ihr mehr Informationen zu der Veranstaltung.
URL:https://cms.munich-startup.net/en/event/fab-talks-beverage-technology/
LOCATION:BayWa Co-Working Space\, Maximus-von-Imhof-Forum 2\, Freising\, 85354\, Deutschland
ATTACH;FMTTYPE=image/jpeg:https://cms.munich-startup.net/wp-content/uploads/2024/06/Beverage-Technology.jpg
END:VEVENT
END:VCALENDAR