BEGIN:VCALENDAR
VERSION:2.0
PRODID:-//Munich Startup - ECPv5.5.0//NONSGML v1.0//EN
CALSCALE:GREGORIAN
METHOD:PUBLISH
X-WR-CALNAME:Munich Startup
X-ORIGINAL-URL:https://cms.munich-startup.net/en
X-WR-CALDESC:Events for Munich Startup
BEGIN:VTIMEZONE
TZID:Europe/Berlin
BEGIN:DAYLIGHT
TZOFFSETFROM:+0100
TZOFFSETTO:+0200
TZNAME:CEST
DTSTART:20240331T010000
END:DAYLIGHT
BEGIN:STANDARD
TZOFFSETFROM:+0200
TZOFFSETTO:+0100
TZNAME:CET
DTSTART:20241027T010000
END:STANDARD
END:VTIMEZONE
BEGIN:VEVENT
DTSTART;TZID=Europe/Berlin:20241024T183000
DTEND;TZID=Europe/Berlin:20241024T203000
DTSTAMP:20260426T000940
CREATED:20240801T065535Z
LAST-MODIFIED:20240801T065634Z
UID:103652-1729794600-1729801800@cms.munich-startup.net
SUMMARY:Unternehmer:innen live erleben: Tijen Onaran - Be your own f*cking hero
DESCRIPTION:Tijen Onaran bei UNTERNEHMER:INNEN LIVE ERLEBEN: Ihr Weg als Kind türkischer Einwanderer zur Unternehmerin und TV Löwin. \nTijen Onaran ist Unternehmerin\, Investorin\, TV-Löwin\, Autorin und eine der wichtigsten Meinungsmacherinnen Deutschlands\, wenn es um Diversität\, Sichtbarkeit und Digitalisierung geht. Ihr Motto: „Diversität ist kein Trend. Diversität ist der Grundstein für den Erfolg eines Unternehmens!“ \nTijen ist Gründerin des Unternehmens der Diversity-Beratung ACI – einem der führenden Beratungsunternehmen in Diversitätsfragen. \nDamit der Anteil von Gründerinnen erhöht wird\, unterstützt sie als Investorin Frauen aktiv mit Risikokapital. So ist sie mittlerweile an über 13 Startups beteiligt\, unter anderem an dem auf Babynahrung spezialisierten Unternehmen Pumpkin Organics\, dem Intimate Wellness Startup Nevernot\, der Sprach-Software Witty Works sowie den bekannten Startups aus Höhle der Löwen – FreeMom und Loggae. \nTijen Onaran ist Mitglied des Kuratoriums des ZKM Karlsruhe sowie des Kuratoriums für Entrepreneurship der Bundeswehr Universität München sowie Kuratoriumsmitglied des Startup Verbandes. \nTijen ist seit der 14. Staffel Jurorin bei der VOX-Sendung “Höhle der Löwen” und investiert dort in Startups. \nHier findet Ihr mehr Informationen zu der Veranstaltung.
URL:https://cms.munich-startup.net/en/event/experience-female-entrepreneurs-live-tijen-onaran/
LOCATION:Strascheg Center for Entrepreneurship (SCE)\, Heßstraße 89\, München\, 80797
ATTACH;FMTTYPE=image/jpeg:https://cms.munich-startup.net/wp-content/uploads/2024/08/Unternehmerinnen-live-erleben-Tijen-Onaran-Be-your-own-f-cking-hero.jpg
GEO:48.1539667;11.5576473
X-APPLE-STRUCTURED-LOCATION;VALUE=URI;X-ADDRESS=Strascheg Center for Entrepreneurship (SCE) Heßstraße 89 München 80797;X-APPLE-RADIUS=500;X-TITLE=Heßstraße 89:geo:11.5576473,48.1539667
END:VEVENT
END:VCALENDAR