BEGIN:VCALENDAR
VERSION:2.0
PRODID:-//Munich Startup - ECPv5.5.0//NONSGML v1.0//EN
CALSCALE:GREGORIAN
METHOD:PUBLISH
X-WR-CALNAME:Munich Startup
X-ORIGINAL-URL:https://cms.munich-startup.net/en
X-WR-CALDESC:Events for Munich Startup
BEGIN:VTIMEZONE
TZID:Europe/Berlin
BEGIN:DAYLIGHT
TZOFFSETFROM:+0100
TZOFFSETTO:+0200
TZNAME:CEST
DTSTART:20250330T010000
END:DAYLIGHT
BEGIN:STANDARD
TZOFFSETFROM:+0200
TZOFFSETTO:+0100
TZNAME:CET
DTSTART:20251026T010000
END:STANDARD
END:VTIMEZONE
BEGIN:VEVENT
DTSTART;TZID=Europe/Berlin:20250508T180000
DTEND;TZID=Europe/Berlin:20250508T210000
DTSTAMP:20260425T135231
CREATED:20250218T092446Z
LAST-MODIFIED:20250218T092446Z
UID:108041-1746727200-1746738000@cms.munich-startup.net
SUMMARY:Unternehmer:innen live erleben: Bonita Grupp von TRIGEMA
DESCRIPTION:Unternehmer:innen live erleben: Bonita Grupp von TRIGEMA – Fashion Meets KI \nBonita Grupp zu Gast bei Unternehmer:innen live erleben. Erfahre wie eine innovative Unternehmerin und künstliche Intelligenz die Familiennachfolge bei TRIGEMA prägen. Und natürlich kommt auch der berühmte Affe Charly 2.0 nicht zu kurz. Anschließend beantwortet Bonita Eure Zuschauerfragen! \nBonita Grupp berichtet über ihren Werdegang und ihre Rolle als Geschäftsführerin bei TRIGEMA. \nWir vom SCE freuen uns auf einen spannenden Unternehmer:innen-Abend und laden Euch alle herzlich ein! \nHier findet Ihr mehr Informationen zu der Veranstaltung.
URL:https://cms.munich-startup.net/en/event/experience-female-entrepreneurs-live-bonita-grupp-trigema/
LOCATION:Steelcase Creative Hall\, Heßstraße 89\, München\, 80797
ATTACH;FMTTYPE=image/jpeg:https://cms.munich-startup.net/wp-content/uploads/2025/02/SCE_Ulive_SM_BonitaGrupp_250110_12.jpg
GEO:48.1537043;11.5578747
X-APPLE-STRUCTURED-LOCATION;VALUE=URI;X-ADDRESS=Steelcase Creative Hall Heßstraße 89 München 80797;X-APPLE-RADIUS=500;X-TITLE=Heßstraße 89:geo:11.5578747,48.1537043
END:VEVENT
END:VCALENDAR