BEGIN:VCALENDAR
VERSION:2.0
PRODID:-//Munich Startup - ECPv5.5.0//NONSGML v1.0//EN
CALSCALE:GREGORIAN
METHOD:PUBLISH
X-WR-CALNAME:Munich Startup
X-ORIGINAL-URL:https://cms.munich-startup.net/en
X-WR-CALDESC:Events for Munich Startup
BEGIN:VTIMEZONE
TZID:Europe/Berlin
BEGIN:DAYLIGHT
TZOFFSETFROM:+0100
TZOFFSETTO:+0200
TZNAME:CEST
DTSTART:20170326T010000
END:DAYLIGHT
BEGIN:STANDARD
TZOFFSETFROM:+0200
TZOFFSETTO:+0100
TZNAME:CET
DTSTART:20171029T010000
END:STANDARD
END:VTIMEZONE
BEGIN:VEVENT
DTSTART;TZID=Europe/Berlin:20170312T100000
DTEND;TZID=Europe/Berlin:20170312T170000
DTSTAMP:20260424T215802
CREATED:20161222T095813Z
LAST-MODIFIED:20161222T095813Z
UID:17654-1489312800-1489338000@cms.munich-startup.net
SUMMARY:Expat in the City
DESCRIPTION:The Expat in the City Fair in Munich is more than just a fair\, it’s an all day experience filled with information and inspiration for expats & internationals living in and around Munich – and all provided in English.\n \nMeet our exhibitors: the people who can help you make your life here easier and – equally important – more fun! There will also be plenty of opportunities to mingle with other expats during the workshops and expert talks or in the Biergarten.  \nIf you are looking to meet new faces\, learn about new places\, discover opportunities\, services and to get connected to your (new) city – the Expat in the City Fair is an event you don’t want to miss! And bring your kids\, there will be a room where they can play and meet other international kids. \nTickets are free when ordered online and EUR 10 at the door. \nMore information can be found here.
URL:https://cms.munich-startup.net/en/event/expat-in-the-city/
ATTACH;FMTTYPE=image/gif:https://cms.munich-startup.net/wp-content/uploads/2016/12/expat_in_the_city.gif
END:VEVENT
END:VCALENDAR