BEGIN:VCALENDAR
VERSION:2.0
PRODID:-//Munich Startup - ECPv5.5.0//NONSGML v1.0//EN
CALSCALE:GREGORIAN
METHOD:PUBLISH
X-WR-CALNAME:Munich Startup
X-ORIGINAL-URL:https://cms.munich-startup.net/en
X-WR-CALDESC:Events for Munich Startup
BEGIN:VTIMEZONE
TZID:Europe/Berlin
BEGIN:DAYLIGHT
TZOFFSETFROM:+0100
TZOFFSETTO:+0200
TZNAME:CEST
DTSTART:20260329T010000
END:DAYLIGHT
BEGIN:STANDARD
TZOFFSETFROM:+0200
TZOFFSETTO:+0100
TZNAME:CET
DTSTART:20261025T010000
END:STANDARD
END:VTIMEZONE
BEGIN:VEVENT
DTSTART;TZID=Europe/Berlin:20260421T133000
DTEND;TZID=Europe/Berlin:20260421T170000
DTSTAMP:20260424T142633
CREATED:20260413T133724Z
LAST-MODIFIED:20260413T133724Z
UID:119517-1776778200-1776790800@cms.munich-startup.net
SUMMARY:Espresso Office Hours - Female Founder Session
DESCRIPTION:Free one-on-one investor feedback sessions for female founders innovating in chronic disease\, brain health\, and heart health. Pre-seed founders welcome. \nHosted by Isabella Bertold\, professional cyclist racing the European UCI circuit\, one of Canada’s most decorated sailors\, and health innovation investor at Relentless Venture Fund. \nIsabella is focused on the data gap in women’s heart health and brain health. She brings a unique perspective as a dual professional athlete who tracks her own health data across both sports and has experienced firsthand where algorithms built on male physiology fall short for female athletes. \nSit down with a female VC for candid feedback on your venture. Book your slot and the coffee is on us.
URL:https://cms.munich-startup.net/en/event/espresso-office-hours-female-founder-session/
LOCATION:kanso coffee lab\, Theatinerstraße 35\, München\, 80333\, Germany
END:VEVENT
END:VCALENDAR