BEGIN:VCALENDAR
VERSION:2.0
PRODID:-//Munich Startup - ECPv5.5.0//NONSGML v1.0//EN
CALSCALE:GREGORIAN
METHOD:PUBLISH
X-WR-CALNAME:Munich Startup
X-ORIGINAL-URL:https://cms.munich-startup.net/en
X-WR-CALDESC:Events for Munich Startup
BEGIN:VTIMEZONE
TZID:Europe/Berlin
BEGIN:DAYLIGHT
TZOFFSETFROM:+0100
TZOFFSETTO:+0200
TZNAME:CEST
DTSTART:20200329T010000
END:DAYLIGHT
BEGIN:STANDARD
TZOFFSETFROM:+0200
TZOFFSETTO:+0100
TZNAME:CET
DTSTART:20201025T010000
END:STANDARD
END:VTIMEZONE
BEGIN:VEVENT
DTSTART;TZID=Europe/Berlin:20200118T110000
DTEND;TZID=Europe/Berlin:20200120T130000
DTSTAMP:20260424T212546
CREATED:20200107T100103Z
LAST-MODIFIED:20200107T100103Z
UID:56080-1579345200-1579525200@cms.munich-startup.net
SUMMARY:DLD Munich 20
DESCRIPTION:More than 150 speakers and 1.000 attendees will touch base at #DLD20. For the 16th time\, “Europe‘s hottest conference” brings together the most influential opinion-makers\, industry leaders\, start-ups\, and digital giants in Munich\, on January 18-20\, 2020. \nDLD is an invitation-only conference – however\, there is the possibility of applying for a ticket. Please provide detailed information about you on the application form. If your ticket request is accepted\, we are happy to welcome you at DLD. \nHier findet Ihr mehr Informationen zu der Veranstaltung.
URL:https://cms.munich-startup.net/en/event/dld-munich-20/
LOCATION:Alte Kongresshalle\, Am Bavariapark 14\, München\, 80339\, Deutschland
END:VEVENT
END:VCALENDAR