BEGIN:VCALENDAR
VERSION:2.0
PRODID:-//Munich Startup - ECPv5.5.0//NONSGML v1.0//EN
CALSCALE:GREGORIAN
METHOD:PUBLISH
X-WR-CALNAME:Munich Startup
X-ORIGINAL-URL:https://cms.munich-startup.net/en
X-WR-CALDESC:Events for Munich Startup
BEGIN:VTIMEZONE
TZID:Europe/Berlin
BEGIN:DAYLIGHT
TZOFFSETFROM:+0100
TZOFFSETTO:+0200
TZNAME:CEST
DTSTART:20250330T010000
END:DAYLIGHT
BEGIN:STANDARD
TZOFFSETFROM:+0200
TZOFFSETTO:+0100
TZNAME:CET
DTSTART:20251026T010000
END:STANDARD
END:VTIMEZONE
BEGIN:VEVENT
DTSTART;TZID=Europe/Berlin:20250603T090000
DTEND;TZID=Europe/Berlin:20250603T130000
DTSTAMP:20260425T122042
CREATED:20250217T104533Z
LAST-MODIFIED:20250217T104635Z
UID:108006-1748941200-1748955600@cms.munich-startup.net
SUMMARY:COLLABORATE - Leverage your power of diversity!
DESCRIPTION:Women Start-up Empowerment Training Series\nWelcome to the Training „COLLABORATE – Leverage your power of diversity!“ – Successfully working together as diverse teams. \nTeamwork can make or break business success. Your team and your culture make you different from others! \nBut what are the essential ingredients for a thriving team culture and collaboration? This training might just be what you need to learn how to attract and enable diverse talent and steer teams toward success. \nWe invite all present and future female founders or students interested in the topic of team diversity from all educational and professional backgrounds. Sign up today and find out why raising a diverse team is most likely the best decision you can make for any of your endeavors. \nLearning Outcomes\nIn this hands-on training you will: \n\nDiscover how diversity drives great teamwork and innovation\nLearn the ins and outs of building collaborative and high-performing teams\nDevelop your ability to increase engagement within your team and attract fitting new members for your endeavor\n\nRequirements: \n\nFirst experiences in team & project leading\nSelf-awareness and curiosity\n\nHier findet Ihr mehr Informationen zu der Veranstaltung.
URL:https://cms.munich-startup.net/en/event/collaborate-leverage-your-power-of-diversity/
LOCATION:Munich Urban Colab\, Freddie-Mercury-Straße 5\, München\, 80797
ATTACH;FMTTYPE=image/jpeg:https://cms.munich-startup.net/wp-content/uploads/2025/02/Training-Series-2.jpg
END:VEVENT
END:VCALENDAR