BEGIN:VCALENDAR
VERSION:2.0
PRODID:-//Munich Startup - ECPv5.5.0//NONSGML v1.0//EN
CALSCALE:GREGORIAN
METHOD:PUBLISH
X-WR-CALNAME:Munich Startup
X-ORIGINAL-URL:https://cms.munich-startup.net/en
X-WR-CALDESC:Events for Munich Startup
BEGIN:VTIMEZONE
TZID:Europe/Berlin
BEGIN:DAYLIGHT
TZOFFSETFROM:+0100
TZOFFSETTO:+0200
TZNAME:CEST
DTSTART:20240331T010000
END:DAYLIGHT
BEGIN:STANDARD
TZOFFSETFROM:+0200
TZOFFSETTO:+0100
TZNAME:CET
DTSTART:20241027T010000
END:STANDARD
END:VTIMEZONE
BEGIN:VEVENT
DTSTART;TZID=Europe/Berlin:20241114T160000
DTEND;TZID=Europe/Berlin:20241114T180000
DTSTAMP:20260424T175651
CREATED:20241112T100949Z
LAST-MODIFIED:20241118T124803Z
UID:105935-1731600000-1731607200@cms.munich-startup.net
SUMMARY:ClashOfTrash Roboter Contest im SCE Precelerator
DESCRIPTION:Bei dem großen ClashOfTrash Roboter Contest im Precelerator hast Du zwei Wochen Zeit um Deinen eigenen kleinen Roboter zu bauen – ob in einer Gruppe oder alleine ist dabei ganz egal. Begleitet wirst Du dabei ab dem 04. November von TechExperts\, die Dir das BauKit zur Verfügung stellen und zwischendurch gern helfen Deinen Roboter weiter zu perfektionieren. Am 14. November treten die Bots dann gegeneinander in unserer ClashOfTrash Arena an. Prämiert wird das beste Design und natürlich der robusteste Roboter. \nDu willst beim Clash of Trash dabei sein? Egal ob als Zuschauer am 14. November oder als Teilnehmer mit Kickoff am 4. November. Hier kannst du Dich anmelden und Infos erhalten
URL:https://cms.munich-startup.net/en/event/clashoftrash-robot-contest-in-the-sce-precelerator/
LOCATION:Strascheg Center for Entrepreneurship (SCE)\, Heßstraße 89\, München\, 80797
ATTACH;FMTTYPE=image/jpeg:https://cms.munich-startup.net/wp-content/uploads/2024/11/csm_2024_news_CoT_87bcd50067.jpg
GEO:48.1539667;11.5576473
X-APPLE-STRUCTURED-LOCATION;VALUE=URI;X-ADDRESS=Strascheg Center for Entrepreneurship (SCE) Heßstraße 89 München 80797;X-APPLE-RADIUS=500;X-TITLE=Heßstraße 89:geo:11.5576473,48.1539667
END:VEVENT
END:VCALENDAR