BEGIN:VCALENDAR
VERSION:2.0
PRODID:-//Munich Startup - ECPv5.5.0//NONSGML v1.0//EN
CALSCALE:GREGORIAN
METHOD:PUBLISH
X-WR-CALNAME:Munich Startup
X-ORIGINAL-URL:https://cms.munich-startup.net/en
X-WR-CALDESC:Events for Munich Startup
BEGIN:VTIMEZONE
TZID:Europe/Berlin
BEGIN:DAYLIGHT
TZOFFSETFROM:+0100
TZOFFSETTO:+0200
TZNAME:CEST
DTSTART:20240331T010000
END:DAYLIGHT
BEGIN:STANDARD
TZOFFSETFROM:+0200
TZOFFSETTO:+0100
TZNAME:CET
DTSTART:20241027T010000
END:STANDARD
END:VTIMEZONE
BEGIN:VEVENT
DTSTART;TZID=Europe/Berlin:20241107T120000
DTEND;TZID=Europe/Berlin:20241107T200000
DTSTAMP:20260425T222950
CREATED:20240829T080849Z
LAST-MODIFIED:20240829T081141Z
UID:104351-1730980800-1731009600@cms.munich-startup.net
SUMMARY:Cashwalk Vol. 21 - Exclusive Pitch Event in Munich
DESCRIPTION:Cashwalk is the premier pitch event for startups and investors. For over 20 editions\, we’ve been matching top-tier investors with high-potential startups. \nTo achieve this\, we pre-select startups for each event and invite 60 high-caliber investors to increase investment opportunities. \nWhat’s in it for startups:\n\nPitch in front of 60 top-class backers seeking their next opportunity\nNetwork with high-potential investors from our network\nMake the most of personalized 1-on-1 meetings\nChance for raising your seed – series A round\n\nWhat’s in it for investors:\n\n30 pitches in one afternoon – chosen from trending industries in clustered pitching rounds\nSee high-quality startups live on stage\, all pre-selected by Start2 Group experts and prepped for their Seed & Series A rounds\nDeep-dive with startups of your investment focus in curated one-on-one meetings\nConnect to other investors for possible co-investments\n\nIt is our goal to provide all event attendees with the best possible experience in a safe atmosphere without any distractions. This is why we exclusively offer this event for startups and investors. \nHier findet Ihr mehr Informationen zu der Veranstaltung.
URL:https://cms.munich-startup.net/en/event/cashwalk-vol-21-exclusive-pitch-event-in-munich/
LOCATION:Start2 Group\, Balanstraße 73\, München\, 81541\, Deutschland
ATTACH;FMTTYPE=image/jpeg:https://cms.munich-startup.net/wp-content/uploads/2024/08/CW_NOV_2024_Event-Visual-for-Investor_1080X566-1-2.jpg
END:VEVENT
END:VCALENDAR