BEGIN:VCALENDAR
VERSION:2.0
PRODID:-//Munich Startup - ECPv5.5.0//NONSGML v1.0//EN
CALSCALE:GREGORIAN
METHOD:PUBLISH
X-WR-CALNAME:Munich Startup
X-ORIGINAL-URL:https://cms.munich-startup.net/en
X-WR-CALDESC:Events for Munich Startup
BEGIN:VTIMEZONE
TZID:Europe/Berlin
BEGIN:DAYLIGHT
TZOFFSETFROM:+0100
TZOFFSETTO:+0200
TZNAME:CEST
DTSTART:20240331T010000
END:DAYLIGHT
BEGIN:STANDARD
TZOFFSETFROM:+0200
TZOFFSETTO:+0100
TZNAME:CET
DTSTART:20241027T010000
END:STANDARD
END:VTIMEZONE
BEGIN:VEVENT
DTSTART;TZID=Europe/Berlin:20240702T090000
DTEND;TZID=Europe/Berlin:20240702T130000
DTSTAMP:20260426T042148
CREATED:20240117T120647Z
LAST-MODIFIED:20240117T120647Z
UID:97401-1719910800-1719925200@cms.munich-startup.net
SUMMARY:Be a strong and authentic Female Leader
DESCRIPTION:Women Start-up Empowerment Training Series 2024: Be a strong and authentic Female Leader \nWe empower women to become leaders and drive positive change towards a more sustainable future. In this training\, we aim to equip you with exactly what it takes to grow as a strong and authentic leader and become aware and confident in your own ability to inspire action both in yourself and in others. \nThis training is open to all present and future female founders or students interested in the topic of humanistic leadership from all educational and professional backgrounds. We invite you to sign up and grab a seat at the table as the transformational role models you are set to become. \nHier findet Ihr mehr Informationen zu der Veranstaltung.
URL:https://cms.munich-startup.net/en/event/be-a-strong-and-authentic-female-leader/
LOCATION:Munich Urban Colab\, Freddie-Mercury-Straße 5\, München\, 80797
ATTACH;FMTTYPE=image/png:https://cms.munich-startup.net/wp-content/uploads/2024/01/UnternehmerTUM-logo-color-2.png
END:VEVENT
END:VCALENDAR