BEGIN:VCALENDAR
VERSION:2.0
PRODID:-//Munich Startup - ECPv5.5.0//NONSGML v1.0//EN
CALSCALE:GREGORIAN
METHOD:PUBLISH
X-WR-CALNAME:Munich Startup
X-ORIGINAL-URL:https://cms.munich-startup.net/en
X-WR-CALDESC:Events for Munich Startup
BEGIN:VTIMEZONE
TZID:Europe/Berlin
BEGIN:DAYLIGHT
TZOFFSETFROM:+0100
TZOFFSETTO:+0200
TZNAME:CEST
DTSTART:20250330T010000
END:DAYLIGHT
BEGIN:STANDARD
TZOFFSETFROM:+0200
TZOFFSETTO:+0100
TZNAME:CET
DTSTART:20251026T010000
END:STANDARD
END:VTIMEZONE
BEGIN:VEVENT
DTSTART;TZID=Europe/Berlin:20250429T100000
DTEND;TZID=Europe/Berlin:20250429T170000
DTSTAMP:20260425T134839
CREATED:20250327T085854Z
LAST-MODIFIED:20250327T085854Z
UID:108810-1745920800-1745946000@cms.munich-startup.net
SUMMARY:BarCamp: Edge AI and Smart Sensing
DESCRIPTION:Wir laden alle Interessierten herzlich zu unserem BarCamp zum Thema Edge AI und Smart Sensing ein. Organisiert wird die Veranstaltung von der Strategischen Partnerschaft Sensorik e.V.\, unterstützt vom Bayerischen Chip-Design-Center sowie der Strategischen Initiative Neuromorphes Computing des Fraunhofer IIS. \nDas Thema Edge AI und Smart Sensing ist bewusst weit gewählt\, um ein breites Publikum anzusprechen. Die Pitches können sowohl Hardware als auch Software oder eingebettete AI-Modelle umfassen. Themen wie neuromorphes Computing\, RISC-V\, heterogene Integration\, AI-Frameworks\, federated Learning\, Quantisierung von Modellen und ähnliche sind herzlich willkommen. Bringt Eure Ideen\, Fragen und Erfahrungen mit und gestaltet gemeinsam mit uns einen inspirierenden Austausch. Wir freuen uns auf spannende Sessions und interessante Diskussionen! \nEin Barcamp\, auch Unkonferenz genannt\, ist eine offene Veranstaltung\, bei der die Teilnehmenden zu Beginn selbst die Themen und den Ablauf festlegen. Diese informellen Workshops fördern Interaktion und kreative Lösungsansätze. \nHier findet Ihr mehr Informationen zu der Veranstaltung.
URL:https://cms.munich-startup.net/en/event/barcamp-edge-ai-and-smart-sensing/
LOCATION:Fraunhofer EMFT\, Hansastr. 27d\, München\, 80686
ATTACH;FMTTYPE=image/jpeg:https://cms.munich-startup.net/wp-content/uploads/2025/03/BarCamp_Edge-AI-and-Smart-Sensing.jpg
END:VEVENT
END:VCALENDAR