BEGIN:VCALENDAR
VERSION:2.0
PRODID:-//Munich Startup - ECPv5.5.0//NONSGML v1.0//EN
CALSCALE:GREGORIAN
METHOD:PUBLISH
X-WR-CALNAME:Munich Startup
X-ORIGINAL-URL:https://cms.munich-startup.net/en
X-WR-CALDESC:Events for Munich Startup
BEGIN:VTIMEZONE
TZID:Europe/Berlin
BEGIN:DAYLIGHT
TZOFFSETFROM:+0100
TZOFFSETTO:+0200
TZNAME:CEST
DTSTART:20250330T010000
END:DAYLIGHT
BEGIN:STANDARD
TZOFFSETFROM:+0200
TZOFFSETTO:+0100
TZNAME:CET
DTSTART:20251026T010000
END:STANDARD
END:VTIMEZONE
BEGIN:VEVENT
DTSTART;TZID=Europe/Berlin:20250527T180000
DTEND;TZID=Europe/Berlin:20250527T220000
DTSTAMP:20260425T122101
CREATED:20250414T061314Z
LAST-MODIFIED:20250422T062739Z
UID:109136-1748368800-1748383200@cms.munich-startup.net
SUMMARY:AI+MUNICH Pitch Night
DESCRIPTION:Join us for the next AI+MUNICH Pitch Night! \nYou’ll meet the teams currently in the program and see firsthand what our latest funded startups have achieved as they pitch their progress and future plans. \nThis evening is especially for those interested in applying for our next funding batch. It’s a unique opportunity to connect with our founders\, gain insights into the program\, and ask any question about the application process. \nBeyond that\, we welcome everyone passionate about AI – whether you’re a founder\, investor\, corporate\, student or AI enthusiast. Expect an inspiring evening full of networking\, knowledge exchange\, and innovation. \nAgenda:\n6.00 pm: Doors open\n6.15 pm: Welcome\n6.20 pm: Startup Pitches (funded teams) Batch #10\n7.15 pm: Introduction funded teams Batch #11\n7.30 pm: Meet current program participants & Info session for future applicants\n7.45 pm: Networking over food & drinks\n10.00 pm: Closing \nIf you’re considering joining AI+MUNICH\, this is your chance to experience the ecosystem up close! \nFor questions\, feel free to reach out: contact@aimunich.com \nHier findet Ihr mehr Informationen zu der Veranstaltung.
URL:https://cms.munich-startup.net/en/event/aimunich-pitch-night-0425/
LOCATION:Strascheg Center for Entrepreneurship (SCE)\, Heßstraße 89\, München\, 80797
ATTACH;FMTTYPE=image/avif:https://cms.munich-startup.net/wp-content/uploads/2025/04/AIMUNICH-Pitch-Night.avif
GEO:48.1539667;11.5576473
X-APPLE-STRUCTURED-LOCATION;VALUE=URI;X-ADDRESS=Strascheg Center for Entrepreneurship (SCE) Heßstraße 89 München 80797;X-APPLE-RADIUS=500;X-TITLE=Heßstraße 89:geo:11.5576473,48.1539667
END:VEVENT
END:VCALENDAR