BEGIN:VCALENDAR
VERSION:2.0
PRODID:-//Munich Startup - ECPv5.5.0//NONSGML v1.0//EN
CALSCALE:GREGORIAN
METHOD:PUBLISH
X-WR-CALNAME:Munich Startup
X-ORIGINAL-URL:https://cms.munich-startup.net/en
X-WR-CALDESC:Events for Munich Startup
BEGIN:VTIMEZONE
TZID:Europe/Berlin
BEGIN:DAYLIGHT
TZOFFSETFROM:+0100
TZOFFSETTO:+0200
TZNAME:CEST
DTSTART:20260329T010000
END:DAYLIGHT
BEGIN:STANDARD
TZOFFSETFROM:+0200
TZOFFSETTO:+0100
TZNAME:CET
DTSTART:20261025T010000
END:STANDARD
END:VTIMEZONE
BEGIN:VEVENT
DTSTART;TZID=Europe/Berlin:20260519T173000
DTEND;TZID=Europe/Berlin:20260519T220000
DTSTAMP:20260424T155006
CREATED:20260402T134851Z
LAST-MODIFIED:20260402T134851Z
UID:119172-1779211800-1779228000@cms.munich-startup.net
SUMMARY:AI NATION GRANT Demo Night - Batch #13
DESCRIPTION:Join us for the next AI NATION GRANT Demo Night in Munich! \nYou will meet the teams who are currently in the program and see first hand what our latest funded startups Batch #13 have achieved as they demostrate where they are in their progress and future plans. \nWe welcome everyone with a passion for AI – whether you’re a founder\, investor\, corporate\, student or AI enthusiast. Expect an inspiring evening full of networking\, knowledge exchange\, and innovation\, especially those who are interested in applying for our next funding batch. It’s a unique opportunity to connect with our founders\, gain insights into the program\, and ask any questions about the application process. \nHier findet Ihr mehr Informationen zu der Veranstaltung.
URL:https://cms.munich-startup.net/en/event/ai-nation-grant-demo-night-batch-13/
LOCATION:Strascheg Center for Entrepreneurship (SCE)\, Heßstraße 89\, München\, 80797
GEO:48.1539667;11.5576473
X-APPLE-STRUCTURED-LOCATION;VALUE=URI;X-ADDRESS=Strascheg Center for Entrepreneurship (SCE) Heßstraße 89 München 80797;X-APPLE-RADIUS=500;X-TITLE=Heßstraße 89:geo:11.5576473,48.1539667
END:VEVENT
END:VCALENDAR