BEGIN:VCALENDAR
VERSION:2.0
PRODID:-//Munich Startup - ECPv5.5.0//NONSGML v1.0//EN
CALSCALE:GREGORIAN
METHOD:PUBLISH
X-WR-CALNAME:Munich Startup
X-ORIGINAL-URL:https://cms.munich-startup.net/en
X-WR-CALDESC:Events for Munich Startup
BEGIN:VTIMEZONE
TZID:Europe/Berlin
BEGIN:DAYLIGHT
TZOFFSETFROM:+0100
TZOFFSETTO:+0200
TZNAME:CEST
DTSTART:20250330T010000
END:DAYLIGHT
BEGIN:STANDARD
TZOFFSETFROM:+0200
TZOFFSETTO:+0100
TZNAME:CET
DTSTART:20251026T010000
END:STANDARD
END:VTIMEZONE
BEGIN:VEVENT
DTSTART;TZID=Europe/Berlin:20250512T140000
DTEND;TZID=Europe/Berlin:20250512T190000
DTSTAMP:20260425T134841
CREATED:20250402T054951Z
LAST-MODIFIED:20250402T054951Z
UID:108945-1747058400-1747076400@cms.munich-startup.net
SUMMARY:AI Music Summit 2025
DESCRIPTION:Der AI Music Summit ist ein exklusives Startup-Event der GEMA in Kooperation mit WISE – und zugleich der Auftakt zur GEMA-Mitgliederversammlung 2025. \nHier treffen sich nicht nur GEMA-Mitglieder\, sondern auch Musikschaffende\, Tech-Expert:innen\, Startups und weitere Akteur:innen aus dem Music-Tech-Ökosystem. Gemeinsam diskutieren wir\, wie Künstliche Intelligenz (KI) die Musikbranche verändert – mit Fokus auf technologische Chancen\, Innovationen und einem verantwortungsvollen Umgang mit dieser Technologie. \nIm Zentrum stehen die Fragen: \n\nWie kann KI zum kreativen Partner werden – statt zum Ersatz?\nWie sieht die nächste Generation an KI-Tools für Musikschaffende aus?\nWas bedeutet Urheberschaft\, wenn Maschinen komponieren?\nWie schützen wir geistiges Eigentum im KI-Zeitalter?\n\nOb du Musik machst\, Technologie entwickelst oder zwischen beiden Welten lebst – dieser Summit bietet dir neue Perspektiven\, wertvolle Kontakte und konkrete Impulse. \nHier findet Ihr mehr Informationen zu der Veranstaltung.
URL:https://cms.munich-startup.net/en/event/ai-music-summit-2025/
LOCATION:Werksviertel Mitte München\, Atelierstraße 1\, München\, 81671\, Germany
END:VEVENT
END:VCALENDAR