BEGIN:VCALENDAR
VERSION:2.0
PRODID:-//Munich Startup - ECPv5.5.0//NONSGML v1.0//EN
CALSCALE:GREGORIAN
METHOD:PUBLISH
X-WR-CALNAME:Munich Startup
X-ORIGINAL-URL:https://cms.munich-startup.net/en
X-WR-CALDESC:Events for Munich Startup
BEGIN:VTIMEZONE
TZID:Europe/Berlin
BEGIN:DAYLIGHT
TZOFFSETFROM:+0100
TZOFFSETTO:+0200
TZNAME:CEST
DTSTART:20250330T010000
END:DAYLIGHT
BEGIN:STANDARD
TZOFFSETFROM:+0200
TZOFFSETTO:+0100
TZNAME:CET
DTSTART:20251026T010000
END:STANDARD
END:VTIMEZONE
BEGIN:VEVENT
DTSTART;TZID=Europe/Berlin:20250522T180000
DTEND;TZID=Europe/Berlin:20250522T220000
DTSTAMP:20260425T135027
CREATED:20250129T140327Z
LAST-MODIFIED:20250129T140327Z
UID:107563-1747936800-1747951200@cms.munich-startup.net
SUMMARY:AFTERWERK – Startup Pitches & Networking
DESCRIPTION:Alle zwei Monate findet im WERK1 das AFTERWERK statt. Hier stellen sich alle neu im Inkubator eingezogenen Startups mit einem kurzen Pitch vor. Neben den Pitches teilt das WERK1 alle News rund um das Gründerzentrum und es ist die perfekte Gelegenheit\, mit Personen aus dem Münchner Startup-Ökosystem zu networken. Schaut gerne vorbei! \nHier findet Ihr mehr Informationen zu der Veranstaltung.
URL:https://cms.munich-startup.net/en/event/afterwerk-startup-pitches-networking-0525/
LOCATION:WERK1\, Am Kartoffelgarten 14\, München\, 81671\, Germany
ATTACH;FMTTYPE=image/jpeg:https://cms.munich-startup.net/wp-content/uploads/2025/01/AW-1.jpg
END:VEVENT
END:VCALENDAR