BEGIN:VCALENDAR
VERSION:2.0
PRODID:-//Munich Startup - ECPv5.5.0//NONSGML v1.0//EN
CALSCALE:GREGORIAN
METHOD:PUBLISH
X-WR-CALNAME:Munich Startup
X-ORIGINAL-URL:https://cms.munich-startup.net/en
X-WR-CALDESC:Events for Munich Startup
BEGIN:VTIMEZONE
TZID:Europe/Berlin
BEGIN:DAYLIGHT
TZOFFSETFROM:+0100
TZOFFSETTO:+0200
TZNAME:CEST
DTSTART:20180325T010000
END:DAYLIGHT
BEGIN:STANDARD
TZOFFSETFROM:+0200
TZOFFSETTO:+0100
TZNAME:CET
DTSTART:20181028T010000
END:STANDARD
END:VTIMEZONE
BEGIN:VEVENT
DTSTART;TZID=Europe/Berlin:20180621T090000
DTEND;TZID=Europe/Berlin:20180621T180000
DTSTAMP:20260424T225134
CREATED:20180319T090109Z
LAST-MODIFIED:20240417T113242Z
UID:34416-1529571600-1529604000@cms.munich-startup.net
SUMMARY:6. Bayerischer Tag der Telemedizin
DESCRIPTION:Der Bayerische Tag der Telemedizin (BTT) hat sich mittlerweile als größter  Fachkongress für Telemedizin im süddeutschen Raum etabliert. Als ausgewiesener Expertentreff und Informationsbörse treffen sich hier Ärzte sowie Vertreter aller Sparten des Gesundheitswesens\, aus Politik und Industrie\, um über aktuelle Trends\, Entwicklungen und neueste telemedizinische Technologien zu diskutieren. \nDer 6. Bayerische Tag der Telemedizin findet unter dem Motto „Grenzen überwinden durch Telemedizin“ am 21. Juni 2018 statt. \nHier findet Ihr mehr Informationen zu der Veranstaltung.
URL:https://cms.munich-startup.net/en/event/6th-bavarian-day-of-telemedicine/
LOCATION:MTC world of fashion\, Taunusstraße 45\, München\, 80807
ATTACH;FMTTYPE=image/jpeg:https://cms.munich-startup.net/wp-content/uploads/2018/03/6.-Bayerische-Tag-der-Telemedizin.jpg
GEO:48.1893701;11.5814097
X-APPLE-STRUCTURED-LOCATION;VALUE=URI;X-ADDRESS=MTC world of fashion Taunusstraße 45 München 80807;X-APPLE-RADIUS=500;X-TITLE=Taunusstraße 45:geo:11.5814097,48.1893701
END:VEVENT
END:VCALENDAR