BEGIN:VCALENDAR
VERSION:2.0
PRODID:-//Munich Startup - ECPv5.5.0//NONSGML v1.0//EN
CALSCALE:GREGORIAN
METHOD:PUBLISH
X-WR-CALNAME:Munich Startup
X-ORIGINAL-URL:https://cms.munich-startup.net/en
X-WR-CALDESC:Events for Munich Startup
BEGIN:VTIMEZONE
TZID:Europe/Berlin
BEGIN:DAYLIGHT
TZOFFSETFROM:+0100
TZOFFSETTO:+0200
TZNAME:CEST
DTSTART:20250330T010000
END:DAYLIGHT
BEGIN:STANDARD
TZOFFSETFROM:+0200
TZOFFSETTO:+0100
TZNAME:CET
DTSTART:20251026T010000
END:STANDARD
END:VTIMEZONE
BEGIN:VEVENT
DTSTART;TZID=Europe/Berlin:20251021T080000
DTEND;TZID=Europe/Berlin:20251022T190000
DTSTAMP:20260424T234538
CREATED:20250910T141252Z
LAST-MODIFIED:20250910T143635Z
UID:112458-1761033600-1761159600@cms.munich-startup.net
SUMMARY:24. Europäischer Gesundheitskongress München
DESCRIPTION:Der Europäische Gesundheitskongress München ist seit Jahren ein Highlight für Fachleute und Entscheidungsträger aus dem Gesundheitswesen. Unser Ziel ist es\, eine Plattform zu schaffen\, die nicht nur die Vielfalt der Themen im Gesundheitsbereich widerspiegelt\, sondern auch konkrete Lösungsansätze bietet. Ein zentraler Aspekt ist der interdisziplinäre Austausch über sektorale\, regionale und nationale Grenzen hinweg. \nTeilnehmende haben die Gelegenheit\, sich über die neuesten Entwicklungen in der Gesundheitspolitik zu informieren\, Erfahrungen auszutauschen und wertvolle Kontakte zu knüpfen. Die kompakte Struktur des Kongresses ermöglicht eine hohe Informationsdichte und fördert die Vernetzung mit Entscheidungsträgern aus Krankenhäusern\, Reha- und Kurkliniken sowie Vertretern von Versicherungen\, der Wirtschaft\, Verbänden und der Politik. \nDie Themen des Kongresses reichen von Gesundheitspolitik über Digitalisierung im Gesundheitswesen bis hin zu innovativen Versorgungsstrukturen. \nIHK Startup Expo & Slam\nSieben ausgewählte Startups haben die Möglichkeit im Rahmen des IHK Startup Slam vor ExpertInnen aus der Gesundheitswirtschaft\, Politik und der Startup-Szene zu pitchen. \nInformationen zu den Auwahlkriterien findet Ihr hier. Die Bewerbungsfrist endet am 6. Oktober. \nHier findet Ihr mehr Informationen zu der Veranstaltung.
URL:https://cms.munich-startup.net/en/event/24th-european-health-congress-munich/
LOCATION:Leonardo Royal Hotel Munich\, Moosacher Str. 90\, München\, 80809
ATTACH;FMTTYPE=image/png:https://cms.munich-startup.net/wp-content/uploads/2025/09/LogoEGKM2025.png
END:VEVENT
END:VCALENDAR