BEGIN:VCALENDAR
VERSION:2.0
PRODID:-//Munich Startup - ECPv5.5.0//NONSGML v1.0//EN
CALSCALE:GREGORIAN
METHOD:PUBLISH
X-WR-CALNAME:Munich Startup
X-ORIGINAL-URL:https://cms.munich-startup.net/en
X-WR-CALDESC:Events for Munich Startup
BEGIN:VTIMEZONE
TZID:Europe/Berlin
BEGIN:DAYLIGHT
TZOFFSETFROM:+0100
TZOFFSETTO:+0200
TZNAME:CEST
DTSTART:20190331T010000
END:DAYLIGHT
BEGIN:STANDARD
TZOFFSETFROM:+0200
TZOFFSETTO:+0100
TZNAME:CET
DTSTART:20191027T010000
END:STANDARD
END:VTIMEZONE
BEGIN:VEVENT
DTSTART;TZID=Europe/Berlin:20190711T083000
DTEND;TZID=Europe/Berlin:20190711T230000
DTSTAMP:20260425T021814
CREATED:20190523T064525Z
LAST-MODIFIED:20211026T075440Z
UID:48651-1562833800-1562886000@cms.munich-startup.net
SUMMARY:1E9 Tech Conference
DESCRIPTION:Where Technology Empowers Humanity\n1E9 the_conference is not just a tech-conference packed with handpicked keynotes\, discussions\, workshops\, networking opportunities and art. \nIt is the start of a permanent community that will enrich Germany’s tech ecosystem. And that’s exactly why all the players of this community are there: \n\nYou are a startup or an investor? Meet there and grow together!\nYou are an entrepreneur or visionary? Get impressions about the hottest tech stuff that will impact our future!\nYour are a job seeker? Find your next employer.\nYou are a student and want to know how you can influence your future? Just go there.\nYou are a corporate? Find your next developer-unicorn.\nYou are a developer? Nerd? Tech-brain? Learn more about how you can use your magical tech skills to shape the future.\n\nBecome a part of the 1E9 the_conference and join us at July 11th in Munich in Deutsches Museum // Isarforum // Blitz-Club. \n#6 conference tracks:\n\nMaking Artificial Intelligence and robots work for us.\nCreating a clean\, smart and connected mobility.\nBlockchain and beyond: Towards a decentralized future.\nPrivacy\, openness\, digital identity: New paradigms for the internet.\nNew Frontiers: Extending the spheres of humanity in space and on earth.\nIdeas for a sustainable\, liveable and healthy life and planet.\n\n#4 + stages\n\nKeynote Stage: One hero. One stage. One good speech worth-in to listen to.\nTownhall: Down-to-ground panels and interaction with the crowd.\nDebate Arena: The stage of the direct exchange of blows in British style – state your opinion.\nSpeakers`‘ Corner: Pitch your own idea.\n\n  \n 
URL:https://cms.munich-startup.net/en/event/1e9-tech-conference/
LOCATION:Isarforum at Deutsches Museum\, Ludwigsbrücke\, München\, 80331
ATTACH;FMTTYPE=image/jpeg:https://cms.munich-startup.net/wp-content/uploads/2019/05/https-_cdn.evbuc_.com_images_62637073_287089565356_1_original.20190521-134230.jpg
END:VEVENT
END:VCALENDAR