BEGIN:VCALENDAR
VERSION:2.0
PRODID:-//Munich Startup - ECPv5.5.0//NONSGML v1.0//EN
CALSCALE:GREGORIAN
METHOD:PUBLISH
X-WR-CALNAME:Munich Startup
X-ORIGINAL-URL:https://cms.munich-startup.net/en
X-WR-CALDESC:Events for Munich Startup
BEGIN:VTIMEZONE
TZID:Europe/Berlin
BEGIN:DAYLIGHT
TZOFFSETFROM:+0100
TZOFFSETTO:+0200
TZNAME:CEST
DTSTART:20190331T010000
END:DAYLIGHT
BEGIN:STANDARD
TZOFFSETFROM:+0200
TZOFFSETTO:+0100
TZNAME:CET
DTSTART:20191027T010000
END:STANDARD
END:VTIMEZONE
BEGIN:VEVENT
DTSTART;TZID=Europe/Berlin:20190521T183000
DTEND;TZID=Europe/Berlin:20190521T220000
DTSTAMP:20260424T212553
CREATED:20190404T081005Z
LAST-MODIFIED:20190404T081005Z
UID:46825-1558463400-1558476000@cms.munich-startup.net
SUMMARY:13. Münchener Startup Demo Night
DESCRIPTION:13. Münchener Startup Demo Night\nAuf einem der bestbesuchtesten Events der Münchener Gründerszene präsentieren rund 60 Startup-Aussteller ihre Innovationen. Alle Branchen sind vertreten –  HighTech\, Bio Sciences\, IoT\, Mobilität\, Lifestyle\, Gesundheit oder Sport. \nDas Konzept der Startup Demo Nights: Startups\, unter ihnen auch die 5 Sieger Sieger in der Phase 2 des Münchener Businessplan Wettbewerbs 2019 stellen sich den ganzen Abend live mit ihren Lösungen und Produkten vor. Besucher können alle Ideen selber ausprobieren und die Gründerteams in entspannter Networking-Atmosphäre persönlich kennenlernen. \nWas Besucher auf der Startup Demo Night erwartet:\n\neine Vielzahl an spannenden Startup-Ausstellern aus allen Branchen\nInnovationen zum Anfassen\nGelegenheit zum Netzwerken mit Gründern\, Investoren und Unternehmensvertretern\n\nVeranstaltungspartner ist das WERK1. \nHier findet Ihr mehr Informationen zu der Veranstaltung.
URL:https://cms.munich-startup.net/en/event/13-munich-startup-demo-night/
LOCATION:TonHalle\, Atelierstraße 24\, München\, 81671
ATTACH;FMTTYPE=image/jpeg:https://cms.munich-startup.net/wp-content/uploads/2018/11/Startup-Demo-Night-von-BayStartUP_1.jpg
GEO:48.1237883;11.6088206
X-APPLE-STRUCTURED-LOCATION;VALUE=URI;X-ADDRESS=TonHalle Atelierstraße 24 München 81671;X-APPLE-RADIUS=500;X-TITLE=Atelierstraße 24:geo:11.6088206,48.1237883
END:VEVENT
END:VCALENDAR